BEGIN:VCALENDAR
VERSION:2.0
PRODID:-//National Pajero 4x4 Club of Australia Inc. - ECPv5.0.2.1//NONSGML v1.0//EN
CALSCALE:GREGORIAN
METHOD:PUBLISH
X-WR-CALNAME:National Pajero 4x4 Club of Australia Inc.
X-ORIGINAL-URL:https://nationalpajero.com.au
X-WR-CALDESC:Events for National Pajero 4x4 Club of Australia Inc.
BEGIN:VTIMEZONE
TZID:Australia/Adelaide
BEGIN:STANDARD
TZOFFSETFROM:+1030
TZOFFSETTO:+0930
TZNAME:ACST
DTSTART:20200404T163000
END:STANDARD
BEGIN:DAYLIGHT
TZOFFSETFROM:+0930
TZOFFSETTO:+1030
TZNAME:ACDT
DTSTART:20201003T163000
END:DAYLIGHT
END:VTIMEZONE
BEGIN:VEVENT
DTSTART;TZID=Australia/Adelaide:20200328T160000
DTEND;TZID=Australia/Adelaide:20200329T130000
DTSTAMP:20200301T112118
CREATED:20200218T212014Z
LAST-MODIFIED:20200218T213134Z
UID:3427-1585411200-1585486800@nationalpajero.com.au
SUMMARY:Scott's Meet and Greet in Tassie
DESCRIPTION:Tassie. Hi all our President Scott is making his way to our island in March. Scott will have his Pajero in the Devonport Car Show then touring our state. \nWe are having a Meet and Greet in Queenstown as Scott and his lovely wife will be there on Saturday. So please come along. \nEvening meal will either be a bbq at the Caravan Park or Tea at the local pub.\, details can be worked out closer to the date. \nWill be a fun evening so why not join all of us. \nIf wishing to come please RSVP to this event and I can do a group booking at the caravan park to get a good deal. If you have any questions\, please email tas@nationalpajero.com.au \nThere are Cabins\, Power Sites and Non power sites. Free showers and very friendly owners.\nCheck out the caravan park using this link. \nHome \n \n
URL:https://nationalpajero.com.au/event/scotts-meet-and-greet-in-tassie/
LOCATION:Queenstown Cabin & Tourist Park\, 17 Grafton Street\, Queenstown\, 7467\, AU
ATTACH;FMTTYPE=image/jpeg:https://nationalpajero.com.au/wp-content/uploads/2020/02/3427_image_86811781_1481254368704765_4532379017810018304_o.jpg
END:VEVENT
END:VCALENDAR